BEGIN:VCALENDAR
VERSION:2.0
PRODID:-//Georgia Humanities - ECPv6.2.0.1//NONSGML v1.0//EN
CALSCALE:GREGORIAN
METHOD:PUBLISH
X-WR-CALNAME:Georgia Humanities
X-ORIGINAL-URL:https://www.georgiahumanities.org
X-WR-CALDESC:Events for Georgia Humanities
REFRESH-INTERVAL;VALUE=DURATION:PT1H
X-Robots-Tag:noindex
X-PUBLISHED-TTL:PT1H
BEGIN:VTIMEZONE
TZID:America/New_York
BEGIN:DAYLIGHT
TZOFFSETFROM:-0500
TZOFFSETTO:-0400
TZNAME:EDT
DTSTART:20260308T070000
END:DAYLIGHT
BEGIN:STANDARD
TZOFFSETFROM:-0400
TZOFFSETTO:-0500
TZNAME:EST
DTSTART:20261101T060000
END:STANDARD
END:VTIMEZONE
BEGIN:VEVENT
DTSTART;TZID=America/New_York:20260421T090000
DTEND;TZID=America/New_York:20260421T150000
DTSTAMP:20260421T171055
CREATED:20260302T191950Z
LAST-MODIFIED:20260302T192505Z
UID:12209-1776762000-1776783600@www.georgiahumanities.org
SUMMARY:Educators Professional Development Workshop (1)
DESCRIPTION:Educators are invited to a workshop on how to integrate economics into lesson plans (grades 3-12) for America 250 and Voices and Votes. Hosted by the Georgia Council for Economic Development. \nThis program is part of Voices & Votes: Democracy in America\, presented by Georgia Humanities through the Museum on Main Street program\, a partnership with the Smithsonian Institution.
URL:https://www.georgiahumanities.org/event/educatorprofdevt1/
LOCATION:Putnam County Annex Building – County Commission Room\, 117 Putnam Dr. (main entrance facing HWY 441)\, Eatonton\, 31024\, United States
CATEGORIES:Museum on Main Street,Workshop
END:VEVENT
BEGIN:VEVENT
DTSTART;TZID=America/New_York:20260422T090000
DTEND;TZID=America/New_York:20260422T150000
DTSTAMP:20260421T171055
CREATED:20260302T192418Z
LAST-MODIFIED:20260302T192418Z
UID:12215-1776848400-1776870000@www.georgiahumanities.org
SUMMARY:Educators Professional Development Workshop (2)
DESCRIPTION:Educators are invited to a workshop on how to integrate economics into lesson plans (grades 3-12) for America 250 and Voices and Votes. Hosted by the Georgia Council for Economic Development. \nThis program is part of Voices & Votes: Democracy in America\, presented by Georgia Humanities through the Museum on Main Street program\, a partnership with the Smithsonian Institution.
URL:https://www.georgiahumanities.org/event/educatorprofdevt2/
LOCATION:Putnam County Annex Building – County Commission Room\, 117 Putnam Dr. (main entrance facing HWY 441)\, Eatonton\, 31024\, United States
CATEGORIES:Museum on Main Street,Workshop
END:VEVENT
BEGIN:VEVENT
DTSTART;TZID=America/New_York:20260423T090000
DTEND;TZID=America/New_York:20260423T150000
DTSTAMP:20260421T171055
CREATED:20260302T192618Z
LAST-MODIFIED:20260302T192618Z
UID:12219-1776934800-1776956400@www.georgiahumanities.org
SUMMARY:Educators Professional Development Workshop (3)
DESCRIPTION:Educators are invited to a workshop on how to integrate economics into lesson plans (grades 3-12) for America 250 and Voices and Votes. Hosted by the Georgia Council for Economic Development. \nThis program is part of Voices & Votes: Democracy in America\, presented by Georgia Humanities through the Museum on Main Street program\, a partnership with the Smithsonian Institution.
URL:https://www.georgiahumanities.org/event/educatorprofdevt3/
LOCATION:Putnam County Annex Building – County Commission Room\, 117 Putnam Dr. (main entrance facing HWY 441)\, Eatonton\, 31024\, United States
CATEGORIES:Museum on Main Street,Workshop
END:VEVENT
BEGIN:VEVENT
DTSTART;TZID=America/New_York:20260425T173000
DTEND;TZID=America/New_York:20260425T190000
DTSTAMP:20260421T171055
CREATED:20260407T152751Z
LAST-MODIFIED:20260409T192646Z
UID:12479-1777138200-1777143600@www.georgiahumanities.org
SUMMARY:Voices and Votes Exhibit Opening: Eatonton
DESCRIPTION:Voices and Votes opens in Eatonton for America250—explore U.S. democracy’s past\, present\, and future at this Smithsonian exhibition. \n\n\n\n\nStep into the story of American democracy at Voices and Votes: Democracy in America\, a Smithsonian traveling exhibition opening in Eatonton for America250. Explore how citizens have shaped the nation—from the Revolution and suffrage to civil rights and today’s civic life—through engaging displays and local perspectives. \nJoin us for the opening evening featuring a special conversation with Governor Nathan Deal and Representative Calvin Smyre\, moderated by Dr. Cathy Cox. \nThroughout the exhibition’s six-week run\, enjoy a full lineup of community events including panel discussions\, readings\, art exhibits\, and more. Whether you’re a history enthusiast\, educator\, or curious community member\, this experience invites you to reflect on what democracy means today and how you can take part. \nThe event is free\, but space is limited. Reserve your tickets here \n\n\nThis program is part of Voices & Votes: Democracy in America\, presented by Georgia Humanities through the Museum on Main Street program\, a partnership with the Smithsonian Institution.
URL:https://www.georgiahumanities.org/event/eatonton/
LOCATION:Putnam County Annex Building – County Commission Room\, 117 Putnam Dr. (main entrance facing HWY 441)\, Eatonton\, 31024\, United States
CATEGORIES:Discussion,Museum on Main Street,Reception
END:VEVENT
END:VCALENDAR