BEGIN:VCALENDAR
VERSION:2.0
PRODID:-//Georgia Humanities - ECPv6.2.0.1//NONSGML v1.0//EN
CALSCALE:GREGORIAN
METHOD:PUBLISH
X-ORIGINAL-URL:https://www.georgiahumanities.org
X-WR-CALDESC:Events for Georgia Humanities
REFRESH-INTERVAL;VALUE=DURATION:PT1H
X-Robots-Tag:noindex
X-PUBLISHED-TTL:PT1H
BEGIN:VTIMEZONE
TZID:America/New_York
BEGIN:DAYLIGHT
TZOFFSETFROM:-0500
TZOFFSETTO:-0400
TZNAME:EDT
DTSTART:20260308T070000
END:DAYLIGHT
BEGIN:STANDARD
TZOFFSETFROM:-0400
TZOFFSETTO:-0500
TZNAME:EST
DTSTART:20261101T060000
END:STANDARD
END:VTIMEZONE
BEGIN:VEVENT
DTSTART;TZID=America/New_York:20260622T090000
DTEND;TZID=America/New_York:20260622T170000
DTSTAMP:20260421T212227
CREATED:20260305T180815Z
LAST-MODIFIED:20260305T180815Z
UID:12293-1782118800-1782147600@www.georgiahumanities.org
SUMMARY:Civil Rights: Portrait of a Local Champion\, Lonnie C. King\, Jr.
DESCRIPTION:The Calhoun County Library will host the Lonnie C. King\, Jr.\, Traveling Exhibit. Join us at the exhibit for community conversations around this local civil rights champion. Our goal is to build historical understanding\, encourage informed participation\, and empower residents—especially youth and historically marginalized groups—to see voting as a meaningful tool for shaping their community’s future. \nThis program is part of Voices & Votes: Democracy in America\, presented by Georgia Humanities through the Museum on Main Street program\, a partnership with the Smithsonian Institution.
URL:https://www.georgiahumanities.org/event/civilrights6-22/
LOCATION:Calhoun Public Library\, 19379 Hartford Street\, Edison\, 39846-0365\, United States
CATEGORIES:Exhibition,Museum on Main Street
END:VEVENT
END:VCALENDAR