BEGIN:VCALENDAR
VERSION:2.0
PRODID:-//Georgia Humanities - ECPv6.2.0.1//NONSGML v1.0//EN
CALSCALE:GREGORIAN
METHOD:PUBLISH
X-ORIGINAL-URL:https://www.georgiahumanities.org
X-WR-CALDESC:Events for Georgia Humanities
REFRESH-INTERVAL;VALUE=DURATION:PT1H
X-Robots-Tag:noindex
X-PUBLISHED-TTL:PT1H
BEGIN:VTIMEZONE
TZID:America/New_York
BEGIN:DAYLIGHT
TZOFFSETFROM:-0500
TZOFFSETTO:-0400
TZNAME:EDT
DTSTART:20240310T070000
END:DAYLIGHT
BEGIN:STANDARD
TZOFFSETFROM:-0400
TZOFFSETTO:-0500
TZNAME:EST
DTSTART:20241103T060000
END:STANDARD
END:VTIMEZONE
BEGIN:VEVENT
DTSTART;VALUE=DATE:20240722
DTEND;VALUE=DATE:20240723
DTSTAMP:20260421T044319
CREATED:20240620T160530Z
LAST-MODIFIED:20240620T162010Z
UID:10315-1721606400-1721692799@www.georgiahumanities.org
SUMMARY:Amaru's Awakening Heritage Reconnection Journey
DESCRIPTION:The Maya Heritage Center will host a workshop series featuring authors and researchers to foster a greater understanding and appreciation of Mississippian and Maya culture. \nThis program is supported by a grant from Georgia Humanities. \n 
URL:https://www.georgiahumanities.org/event/amarus-awakening-heritage-reconnection-journey/
LOCATION:Maya Heritage Center\, 205 John Howard Way #446\, Tifton\, Georgia\, 31794
CATEGORIES:Workshop
END:VEVENT
BEGIN:VEVENT
DTSTART;VALUE=DATE:20240730
DTEND;VALUE=DATE:20240731
DTSTAMP:20260421T044319
CREATED:20240620T161421Z
LAST-MODIFIED:20240620T161421Z
UID:10319-1722297600-1722383999@www.georgiahumanities.org
SUMMARY:The History of Georgia Business with the UGA Libraries Special Collections
DESCRIPTION:The Georgia Council on Economic Education will host a professional development workshop for middle and high school history teachers at the Special Collections Library on the campus of the University of Georgia. Teachers will visit the UGA Special Collections Libraries to explore primary source documents that will help their students gain a deeper understanding of Georgia’s economic history. \nThis program is supported by a grant from Georgia Humanities.
URL:https://www.georgiahumanities.org/event/the-history-of-georgia-business-with-the-uga-libraries-special-collections/
LOCATION:University of Georgia Special Collections Libraries\, 300 South Hull Street\, Athens\, Georgia\, 30602
CATEGORIES:Workshop
END:VEVENT
END:VCALENDAR