BEGIN:VCALENDAR
VERSION:2.0
PRODID:-//Georgia Humanities - ECPv6.2.0.1//NONSGML v1.0//EN
CALSCALE:GREGORIAN
METHOD:PUBLISH
X-WR-CALNAME:Georgia Humanities
X-ORIGINAL-URL:https://www.georgiahumanities.org
X-WR-CALDESC:Events for Georgia Humanities
REFRESH-INTERVAL;VALUE=DURATION:PT1H
X-Robots-Tag:noindex
X-PUBLISHED-TTL:PT1H
BEGIN:VTIMEZONE
TZID:America/New_York
BEGIN:DAYLIGHT
TZOFFSETFROM:-0500
TZOFFSETTO:-0400
TZNAME:EDT
DTSTART:20230312T070000
END:DAYLIGHT
BEGIN:STANDARD
TZOFFSETFROM:-0400
TZOFFSETTO:-0500
TZNAME:EST
DTSTART:20231105T060000
END:STANDARD
END:VTIMEZONE
BEGIN:VEVENT
DTSTART;VALUE=DATE:20230225
DTEND;VALUE=DATE:20230227
DTSTAMP:20260421T045715
CREATED:20230127T221446Z
LAST-MODIFIED:20230127T221512Z
UID:9256-1677283200-1677455999@www.georgiahumanities.org
SUMMARY:Atlanta Workshop Players: Art with a Purpose
DESCRIPTION:Atlanta youth are invited to come together during this two-day workshop to reflect\, connect\, and use their voices to highlight the most important issues in their lives. Students will then transform these concerns into “art with a purpose\,” creating and sharing new original work that can positively influence their communities. \nThis workshop is supported by a grant from Georgia Humanities.
URL:https://www.georgiahumanities.org/event/atlanta-workshop-players-art-with-a-purpose/
LOCATION:Atlanta Workshop Players\, 1701 Brandon Hall Drive\, Atlanta\, GA\, 30350\, United States
CATEGORIES:Workshop
END:VEVENT
BEGIN:VEVENT
DTSTART;TZID=America/New_York:20230225T133000
DTEND;TZID=America/New_York:20230225T143000
DTSTAMP:20260421T045715
CREATED:20230209T203236Z
LAST-MODIFIED:20230209T203259Z
UID:9291-1677331800-1677335400@www.georgiahumanities.org
SUMMARY:GSU Department of Africana Studies: The World(s) She Made Workshop Series
DESCRIPTION:The Georgia State University Department of Africana Studies presents The World(s) She Made: Composing the Radical Lives of Kathleen Neal Cleaver workshop series. Presented by Sierra King\, this workshop will explore how to build a personal archive\, one photo at a time. \nThis program is supported by a grant from Georgia Humanities. 
URL:https://www.georgiahumanities.org/event/gsu-department-of-africana-studies-the-worlds-she-made-workshop-series-2/
LOCATION:Auburn Avenue Research Library\, 101 Auburn Avenue\, N.E.\, Atlanta\, GA\, 30303\, United States
CATEGORIES:Lecture,Workshop
END:VEVENT
END:VCALENDAR