BEGIN:VCALENDAR
VERSION:2.0
PRODID:-//Georgia Humanities - ECPv6.2.0.1//NONSGML v1.0//EN
CALSCALE:GREGORIAN
METHOD:PUBLISH
X-ORIGINAL-URL:https://www.georgiahumanities.org
X-WR-CALDESC:Events for Georgia Humanities
REFRESH-INTERVAL;VALUE=DURATION:PT1H
X-Robots-Tag:noindex
X-PUBLISHED-TTL:PT1H
BEGIN:VTIMEZONE
TZID:America/New_York
BEGIN:DAYLIGHT
TZOFFSETFROM:-0500
TZOFFSETTO:-0400
TZNAME:EDT
DTSTART:20260308T070000
END:DAYLIGHT
BEGIN:STANDARD
TZOFFSETFROM:-0400
TZOFFSETTO:-0500
TZNAME:EST
DTSTART:20261101T060000
END:STANDARD
END:VTIMEZONE
BEGIN:VEVENT
DTSTART;TZID=America/New_York:20260328T140000
DTEND;TZID=America/New_York:20260328T140000
DTSTAMP:20260419T115938
CREATED:20260304T145329Z
LAST-MODIFIED:20260305T033905Z
UID:12254-1774706400-1774706400@www.georgiahumanities.org
SUMMARY:Reckoning with Remus: Reinterpreting The Wren's Nest
DESCRIPTION:Join The Wren’s Nest in Atlanta as they unveil a new tour reexamining the Brer Rabbit stories\, their West African origins\, and the people who first shared them. This launch event features a community conversation about the museum’s reinterpretation project\, followed by a guided tour highlighting the home’s evolving history and its role in Atlanta’s changing cultural landscape. \nThis program is supported by a grant from Georgia Humanities. 
URL:https://www.georgiahumanities.org/event/remus/
LOCATION:The Wren’s Nest\, 1050 Ralph David Abernathy Blvd SW\, Atlanta\, 30310\, United States
CATEGORIES:Lecture,Workshop
END:VEVENT
END:VCALENDAR