BEGIN:VCALENDAR
VERSION:2.0
PRODID:-//Georgia Humanities - ECPv6.2.0.1//NONSGML v1.0//EN
CALSCALE:GREGORIAN
METHOD:PUBLISH
X-WR-CALNAME:Georgia Humanities
X-ORIGINAL-URL:https://www.georgiahumanities.org
X-WR-CALDESC:Events for Georgia Humanities
REFRESH-INTERVAL;VALUE=DURATION:PT1H
X-Robots-Tag:noindex
X-PUBLISHED-TTL:PT1H
BEGIN:VTIMEZONE
TZID:America/New_York
BEGIN:DAYLIGHT
TZOFFSETFROM:-0500
TZOFFSETTO:-0400
TZNAME:EDT
DTSTART:20250309T070000
END:DAYLIGHT
BEGIN:STANDARD
TZOFFSETFROM:-0400
TZOFFSETTO:-0500
TZNAME:EST
DTSTART:20251102T060000
END:STANDARD
END:VTIMEZONE
BEGIN:VEVENT
DTSTART;TZID=America/New_York:20250405T140000
DTEND;TZID=America/New_York:20250405T153000
DTSTAMP:20260422T003459
CREATED:20250307T173059Z
LAST-MODIFIED:20250307T173059Z
UID:11074-1743861600-1743867000@www.georgiahumanities.org
SUMMARY:Spring Place & Oochgeelogy: Moravian Missions Among the Cherokee
DESCRIPTION:Presented by Wanda Patterson\, “Spring Place & Oochgeelogy” tells the dramatic story of the first missionary group to be permitted to establish schools and mission stations in the Cherokee Nation–the Moravians. The lecture will focus on the origins and development of Moravian missionary activity in the Cherokee Nation\, highlighting the patterns of cross-cultural exchange between Moravian missionaries and the Cherokee at the Spring Place and Oochgeelogy mission stations in present-day Chatworth and Calhoun\, GA.
URL:https://www.georgiahumanities.org/event/spring-place-oochgeelogy-moravian-missions-among-the-cherokee/
LOCATION:Funk Heritage Center\, 7300 Reinhardt College Cir\, Waleska\, Georgia\, 30183
CATEGORIES:Lecture
END:VEVENT
END:VCALENDAR