BEGIN:VCALENDAR
VERSION:2.0
PRODID:-//Georgia Humanities - ECPv6.2.0.1//NONSGML v1.0//EN
CALSCALE:GREGORIAN
METHOD:PUBLISH
X-WR-CALNAME:Georgia Humanities
X-ORIGINAL-URL:https://www.georgiahumanities.org
X-WR-CALDESC:Events for Georgia Humanities
REFRESH-INTERVAL;VALUE=DURATION:PT1H
X-Robots-Tag:noindex
X-PUBLISHED-TTL:PT1H
BEGIN:VTIMEZONE
TZID:America/New_York
BEGIN:DAYLIGHT
TZOFFSETFROM:-0500
TZOFFSETTO:-0400
TZNAME:EDT
DTSTART:20240310T070000
END:DAYLIGHT
BEGIN:STANDARD
TZOFFSETFROM:-0400
TZOFFSETTO:-0500
TZNAME:EST
DTSTART:20241103T060000
END:STANDARD
END:VTIMEZONE
BEGIN:VEVENT
DTSTART;TZID=America/New_York:20241121T190000
DTEND;TZID=America/New_York:20241121T200000
DTSTAMP:20260421T131228
CREATED:20241107T010615Z
LAST-MODIFIED:20241107T010615Z
UID:10744-1732215600-1732219200@www.georgiahumanities.org
SUMMARY:Spring Place & Oochgeelogy: Moravian Missions Among the Cherokee
DESCRIPTION:Presented by Wanda Patterson\, “Spring Place & Oochgeelogy” tells the dramatic story of the Moravians\, the first missionary group to be permitted to establish schools and mission stations in the Cherokee Nation. The lecture will focus on the origins and development of Moravian missionary activity in the Cherokee Nation\, highlighting the patterns of cross-cultural exchange between Moravian missionaries and the Cherokee at the Spring Place and Oochgeelogy mission stations in present-day Chatsworth and Calhoun\, Georgia. \nWanda Patterson is a charter member of the Georgia Trail of Tears Association. On behalf of the chapter\, she edited a volume of poetry by Cherokee writer John Rollin Ridge\, and she serves on the Trail of Tears Speakers Staff. \nThis program is supported by a grant from Georgia Humanities. 
URL:https://www.georgiahumanities.org/event/we-neighbors-would-meet-together-oothcaloga-moravian-mission-integration-and-cherokee-identity-2/
LOCATION:Funk Heritage Center\, 7300 Reinhardt College Cir\, Waleska\, Georgia\, 30183
CATEGORIES:Lecture
END:VEVENT
END:VCALENDAR