BEGIN:VCALENDAR
VERSION:2.0
PRODID:-//Georgia Humanities - ECPv6.2.0.1//NONSGML v1.0//EN
CALSCALE:GREGORIAN
METHOD:PUBLISH
X-WR-CALNAME:Georgia Humanities
X-ORIGINAL-URL:https://www.georgiahumanities.org
X-WR-CALDESC:Events for Georgia Humanities
REFRESH-INTERVAL;VALUE=DURATION:PT1H
X-Robots-Tag:noindex
X-PUBLISHED-TTL:PT1H
BEGIN:VTIMEZONE
TZID:America/New_York
BEGIN:DAYLIGHT
TZOFFSETFROM:-0500
TZOFFSETTO:-0400
TZNAME:EDT
DTSTART:20240310T070000
END:DAYLIGHT
BEGIN:STANDARD
TZOFFSETFROM:-0400
TZOFFSETTO:-0500
TZNAME:EST
DTSTART:20241103T060000
END:STANDARD
END:VTIMEZONE
BEGIN:VEVENT
DTSTART;TZID=America/New_York:20241114T160000
DTEND;TZID=America/New_York:20241114T170000
DTSTAMP:20260421T131244
CREATED:20241107T145608Z
LAST-MODIFIED:20241107T145709Z
UID:10746-1731600000-1731603600@www.georgiahumanities.org
SUMMARY:American Soldiers during the Holocaust: Perception and Representation in Newspapers and Museums
DESCRIPTION:August University professors Stacey Thompson\, David Bulla\, Hubert Van Tull\, and James Garvey will discuss representations of the Holocaust in media and museums and the experiences of local veterans who liberated the concentration camps. \nThis program is supported by a grant from Georgia Humanities.
URL:https://www.georgiahumanities.org/event/american-soldiers-during-the-holocaust-perception-and-representation-in-newspapers-and-museums/
LOCATION:Augusta University\, 1120 15th St.\, Augusta\, GA\, 30912\, United States
CATEGORIES:Lecture
END:VEVENT
END:VCALENDAR