BEGIN:VCALENDAR
VERSION:2.0
PRODID:-//Georgia Humanities - ECPv6.2.0.1//NONSGML v1.0//EN
CALSCALE:GREGORIAN
METHOD:PUBLISH
X-ORIGINAL-URL:https://www.georgiahumanities.org
X-WR-CALDESC:Events for Georgia Humanities
REFRESH-INTERVAL;VALUE=DURATION:PT1H
X-Robots-Tag:noindex
X-PUBLISHED-TTL:PT1H
BEGIN:VTIMEZONE
TZID:America/New_York
BEGIN:DAYLIGHT
TZOFFSETFROM:-0500
TZOFFSETTO:-0400
TZNAME:EDT
DTSTART:20240310T070000
END:DAYLIGHT
BEGIN:STANDARD
TZOFFSETFROM:-0400
TZOFFSETTO:-0500
TZNAME:EST
DTSTART:20241103T060000
END:STANDARD
END:VTIMEZONE
BEGIN:VEVENT
DTSTART;TZID=America/New_York:20241001T190000
DTEND;TZID=America/New_York:20241001T203000
DTSTAMP:20260421T100220
CREATED:20240903T194144Z
LAST-MODIFIED:20240903T194144Z
UID:10506-1727809200-1727814600@www.georgiahumanities.org
SUMMARY:Revolutionary Perspectives Lecture Series: Communities Create History
DESCRIPTION:Join the Coastal Heritage Society for their 2024 Revolutionary Perspectives Lecture Series. This virtual series will feature humanities scholars from diverse areas of focus to provide a broad definition and understanding of how communities create history as well as to examine best practices in sharing history with modern audiences. Scholars include Dr. Deborah Johnson-Simon\, a visiting professor at Savannah State University\, and Ms. Rita Fuller-Yates\, an independent historian and the owner of Savannah Black History Tours.
URL:https://www.georgiahumanities.org/event/revolutionary-perspectives-lecture-series-communities-create-history-2-2/
LOCATION:Virtual Program
CATEGORIES:Lecture,Online
END:VEVENT
BEGIN:VEVENT
DTSTART;TZID=America/New_York:20241003T173000
DTEND;TZID=America/New_York:20241003T190000
DTSTAMP:20260421T100220
CREATED:20240904T154108Z
LAST-MODIFIED:20240904T154108Z
UID:10552-1727976600-1727982000@www.georgiahumanities.org
SUMMARY:Sidney's Salon Featuring Neesha Powell-Ingabire
DESCRIPTION:Join the Historic Macon Foundation for a presentation by Neesha Powell-Ingabire (she/they)\, a coastal Georgia-born-and-raised movement journalist\, essayist\, and community and cultural organizer. She reports on the justice movements of the Black\, trans\, queer\, and Southern communities to which she belongs and writes essays to recover her own history and the histories of her ancestors and their ancestral homes. \nThis program is supported by a grant from Georgia Humanities.
URL:https://www.georgiahumanities.org/event/sidneys-salon-featuring-neesha-powell-ingabire/
LOCATION:Historic Macon Foundation\, 950 THIRD ST.\, Macon\, Georgia\, 31201
CATEGORIES:Lecture
END:VEVENT
END:VCALENDAR