BEGIN:VCALENDAR
VERSION:2.0
PRODID:-//Georgia Humanities - ECPv6.2.0.1//NONSGML v1.0//EN
CALSCALE:GREGORIAN
METHOD:PUBLISH
X-ORIGINAL-URL:https://www.georgiahumanities.org
X-WR-CALDESC:Events for Georgia Humanities
REFRESH-INTERVAL;VALUE=DURATION:PT1H
X-Robots-Tag:noindex
X-PUBLISHED-TTL:PT1H
BEGIN:VTIMEZONE
TZID:America/New_York
BEGIN:DAYLIGHT
TZOFFSETFROM:-0500
TZOFFSETTO:-0400
TZNAME:EDT
DTSTART:20240310T070000
END:DAYLIGHT
BEGIN:STANDARD
TZOFFSETFROM:-0400
TZOFFSETTO:-0500
TZNAME:EST
DTSTART:20241103T060000
END:STANDARD
END:VTIMEZONE
BEGIN:VEVENT
DTSTART;TZID=America/New_York:20240822T173000
DTEND;TZID=America/New_York:20240822T190000
DTSTAMP:20260421T070237
CREATED:20240620T162433Z
LAST-MODIFIED:20240620T162433Z
UID:10326-1724347800-1724353200@www.georgiahumanities.org
SUMMARY:Sidney's Salon Featuring Author Tony Barnhart
DESCRIPTION:Join the Historic Macon Foundation for a presentation given by Tony Barnhart\, author of “The 19 of Greene: Football\, Friendship\, and Change in the Fall of 1970.” Pre-registration is encouraged! \nThis program is supported by a grant from Georgia Humanities. 
URL:https://www.georgiahumanities.org/event/sidneys-salon-featuring-author-tony-barnhart/
LOCATION:Historic Macon Foundation\, 950 THIRD ST.\, Macon\, Georgia\, 31201
CATEGORIES:Lecture
END:VEVENT
END:VCALENDAR