BEGIN:VCALENDAR
VERSION:2.0
PRODID:-//Georgia Humanities - ECPv6.2.0.1//NONSGML v1.0//EN
CALSCALE:GREGORIAN
METHOD:PUBLISH
X-WR-CALNAME:Georgia Humanities
X-ORIGINAL-URL:https://www.georgiahumanities.org
X-WR-CALDESC:Events for Georgia Humanities
REFRESH-INTERVAL;VALUE=DURATION:PT1H
X-Robots-Tag:noindex
X-PUBLISHED-TTL:PT1H
BEGIN:VTIMEZONE
TZID:UTC
BEGIN:STANDARD
TZOFFSETFROM:+0000
TZOFFSETTO:+0000
TZNAME:UTC
DTSTART:20200101T000000
END:STANDARD
END:VTIMEZONE
BEGIN:VEVENT
DTSTART;TZID=UTC:20200904T090000
DTEND;TZID=UTC:20200906T200000
DTSTAMP:20260425T075540
CREATED:20200831T234732Z
LAST-MODIFIED:20200831T234732Z
UID:7491-1599210000-1599422400@www.georgiahumanities.org
SUMMARY:VIRTUAL EVENT—Decatur Short Docs Film Festival
DESCRIPTION:The Decatur Short Docs Film Festival\, presented by the Georgia Center for the Book \nThe Decatur Short Docs Film Festival is a Decatur/Atlanta-based festival series showcase of short documentaries about people and places primarily in the South. The festival provides a platform for filmmakers to showcase their work\, and provides a forum for fresh perspectives and insights in the community. The 2020 theme is “Art Happens\,” which celebrates the visual\, performing\, and literary arts. \nThe 2020 Short Docs Film Festival will be hosted online in September. Each screening will be accompanied by a “talkback” session with the creators and contributors of the documentaries. \nA 2020 featured documentary\, Lillian Smith: Breaking the Silence\, directed by Hal and Henry Jacobs\, will be screened online the first weekend of the festival\, and will be followed by a Q&A with the filmmakers on September 6 at 7:00p.m. The screenings and talkback are free to participate\, but registration is required. The production of Lillian Smith: Breaking the Silence was supported in part by a grant from Georgia Humanities. \nThe online Decatur Short Docs Film Festival\, presented by the Georgia Center for the Book\, is part of the 2020 virtual Decatur Book Festival\, of which Georgia Humanities is proud to be a sponsor. See the full festival line-up at www.decaturbookfestival.com.
URL:https://www.georgiahumanities.org/event/virtual-event-decatur-short-docs-film-festival/
LOCATION:Georgia Center for the Book
CATEGORIES:Festival,Online,Reading/Performance/Showing
END:VEVENT
END:VCALENDAR