BEGIN:VCALENDAR
VERSION:2.0
PRODID:-//Georgia Humanities - ECPv6.2.0.1//NONSGML v1.0//EN
CALSCALE:GREGORIAN
METHOD:PUBLISH
X-ORIGINAL-URL:https://www.georgiahumanities.org
X-WR-CALDESC:Events for Georgia Humanities
REFRESH-INTERVAL;VALUE=DURATION:PT1H
X-Robots-Tag:noindex
X-PUBLISHED-TTL:PT1H
BEGIN:VTIMEZONE
TZID:America/New_York
BEGIN:DAYLIGHT
TZOFFSETFROM:-0500
TZOFFSETTO:-0400
TZNAME:EDT
DTSTART:20260308T070000
END:DAYLIGHT
BEGIN:STANDARD
TZOFFSETFROM:-0400
TZOFFSETTO:-0500
TZNAME:EST
DTSTART:20261101T060000
END:STANDARD
END:VTIMEZONE
BEGIN:VEVENT
DTSTART;TZID=America/New_York:20260314T100000
DTEND;TZID=America/New_York:20260315T170000
DTSTAMP:20260422T042004
CREATED:20260302T203503Z
LAST-MODIFIED:20260302T204058Z
UID:12243-1773482400-1773594000@www.georgiahumanities.org
SUMMARY:Revolution on the Coast: A 250th Celebration -  First Oval Office Project of the Museum of the American Revolution
DESCRIPTION:Coastal Georgia Historical Society invites history lovers of all ages to the beautiful Golden Isles for a special Semiquincentennial experience: Revolution on the Coast: A 250th Celebration March 9-15\, 2026. \nThe main event is the First Oval Office Project of the Museum of the American Revolution\, which will bring a replica of George Washington’s Revolutionary War tent—the mobile command center of the Continental Army—to St. Simons Island. The project also includes other tents like common soldiers’ tents and a dining tent\, as well as costumed interpreters\, that will reveal the experiences of those who served and sacrificed during the war. General George Washington’s original sleeping and office tent from the Revolutionary War is on permanent display at the Museum of the American Revolution in historic Philadelphia. \nIn addition\, CGHS will provide complementary experiential programming during the weekend\, such as silhouette drawing\, quill writing\, tricorn hat making\, archaeology digs\, and more. This will be the first time this special program has visited the state of Georgia\, providing a wonderful opportunity to engage with the deeply significant and perennially relevant history of the American Revolution. \nWhile week-day programming is priced per program\, the First Oval Office weekend event is free. Registration and Check In is required. \n 
URL:https://www.georgiahumanities.org/event/revolutiononthecoast/
LOCATION:Gascoigne Bluff Park\, 1000 Arthur J Moore Dr\, St. Simons Island\, GA\, 31522\, United States
CATEGORIES:Festival
END:VEVENT
BEGIN:VEVENT
DTSTART;TZID=America/New_York:20260314T120000
DTEND;TZID=America/New_York:20260314T160000
DTSTAMP:20260422T042004
CREATED:20260302T201203Z
LAST-MODIFIED:20260302T202224Z
UID:12233-1773489600-1773504000@www.georgiahumanities.org
SUMMARY:Culloden: 250 Years of American Independence\, Part I
DESCRIPTION:Join the Monroe County Historical Society as we kick off America’s 250th Anniversary with the grand opening of Culloden: 250 Years of American Independence. Step back in time to explore the revolutionary sparks that transformed Georgia and Monroe County. This epic journey is told through the eyes of Culloden—one of Monroe County’s oldest settlements. \nDon’t miss the Grand Ribbon Cutting with live bagpipes on March 14th at 2 PM. Enjoy free admission\, light refreshments\, and a front-row seat to our nation’s heritage. \nThis project is supported by Georgia Humanities\, in partnership with the Georgia Department of Economic Development\, through funding from the Georgia General Assembly.
URL:https://www.georgiahumanities.org/event/culloden1/
LOCATION:Monroe County History Museum\, 126 E Johnston St\, Forsyth\, GA\, 31029\, United States
CATEGORIES:Exhibition,Festival
END:VEVENT
BEGIN:VEVENT
DTSTART;TZID=America/New_York:20260319T190000
DTEND;TZID=America/New_York:20260319T190000
DTSTAMP:20260422T042004
CREATED:20260318T135620Z
LAST-MODIFIED:20260318T135620Z
UID:12361-1773946800-1773946800@www.georgiahumanities.org
SUMMARY:Revival: Lost Southern Voices - Keynote
DESCRIPTION:Revival: Lost South­ern Voic­es\, a fes­ti­val for read­ers\, cel­e­brates his­tor­i­cal­ly exclud­ed\, erased\, or mar­gin­al­ized South­ern voic­es. Dur­ing this annu­al con­fer­ence\, invit­ed pre­sen­ters dis­cuss South­ern authors or artists whose works are out-of-print or oth­er­wise do not receive the atten­tion they deserve. We invite the pub­lic\, schol­ars\, stu­dents\, writ­ers\, and inquis­i­tive read­ers to join the con­ver­sa­tion as we con­tin­ue to dis­cov­er and revive these Lost South­ern Voices. \nKeynote Event: Shin­ing a Light in the Dun­geon: Hon­or­ing Unap­pre­ci­at­ed Voic­es in the Hip Hop South\nRegi­na Bradley in con­ver­sa­tion with Mon­i­ca Weath­er­ly\nFol­lowed by a light reception \nReg­is­ter for the Keynote here.
URL:https://www.georgiahumanities.org/event/revivallsvkeynote/
LOCATION:Decatur Library\, 215 Sycamore Street\, Decatur\, GA\, 30030
CATEGORIES:Discussion,Festival,Lecture
END:VEVENT
BEGIN:VEVENT
DTSTART;TZID=America/New_York:20260320T130000
DTEND;TZID=America/New_York:20260320T160000
DTSTAMP:20260422T042004
CREATED:20260318T140633Z
LAST-MODIFIED:20260318T140633Z
UID:12364-1774011600-1774022400@www.georgiahumanities.org
SUMMARY:Revival: Lost Southern Voices - Panels
DESCRIPTION:Revival: Lost South­ern Voic­es\, a fes­ti­val for read­ers\, cel­e­brates his­tor­i­cal­ly exclud­ed\, erased\, or mar­gin­al­ized South­ern voic­es. Dur­ing this annu­al con­fer­ence\, invit­ed pre­sen­ters dis­cuss South­ern authors or artists whose works are out-of-print or oth­er­wise do not receive the atten­tion they deserve. We invite the pub­lic\, schol­ars\, stu­dents\, writ­ers\, and inquis­i­tive read­ers to join the con­ver­sa­tion as we con­tin­ue to dis­cov­er and revive these Lost South­ern Voices. \nPan­el 1: 1:00 p.m. ET\nA Revival in Sto­ries: The Craft of South­ern His­tor­i­cal Fic­tion \nCar­olyn Cur­ry\nTony Grooms\nMod­er­at­ed by Jes­si­ca Handler \nReg­is­ter for Pan­el 1 here. \nPan­el 2: 3:00 p.m. ET\nLost Chero­kee Voic­es \nVivian Mary Car­roll\nDon­na Cof­fey Lit­tle\nMod­er­at­ed by Jeff Bishop \nReg­is­ter for Pan­el 2 here.
URL:https://www.georgiahumanities.org/event/revivallsvpanels/
LOCATION:Decatur Library\, 215 Sycamore Street\, Decatur\, GA\, 30030
CATEGORIES:Discussion,Festival,Lecture
END:VEVENT
BEGIN:VEVENT
DTSTART;TZID=America/New_York:20260321T130000
DTEND;TZID=America/New_York:20260321T160000
DTSTAMP:20260422T042004
CREATED:20260318T141005Z
LAST-MODIFIED:20260318T141005Z
UID:12368-1774098000-1774108800@www.georgiahumanities.org
SUMMARY:Revival: Lost Southern Voices - Panels Day 2
DESCRIPTION:Revival: Lost South­ern Voic­es\, a fes­ti­val for read­ers\, cel­e­brates his­tor­i­cal­ly exclud­ed\, erased\, or mar­gin­al­ized South­ern voic­es. Dur­ing this annu­al con­fer­ence\, invit­ed pre­sen­ters dis­cuss South­ern authors or artists whose works are out-of-print or oth­er­wise do not receive the atten­tion they deserve. We invite the pub­lic\, schol­ars\, stu­dents\, writ­ers\, and inquis­i­tive read­ers to join the con­ver­sa­tion as we con­tin­ue to dis­cov­er and revive these Lost South­ern Voices. \nPan­el 3: 1:00 p.m. ET\nHis­tor­i­cal Recipes: Pre­serv­ing Geor­gia’s Food­ways and Sto­ries \nValerie Frey in con­ver­sa­tion with Gina Flowers \nReg­is­ter for Pan­el 3 here. \nPan­el 4: 3:00 p.m. ET\nBeyond Bars: Cel­e­brat­ing Incar­cer­at­ed Voic­es through Cre­ative Writ­ing Cours­es \nNel­lie Cox\nCameron Ervin\nBeth Gylys\nKather­ine Per­ry\nMod­er­at­ed by: Andy Rogers \nReg­is­ter for Pan­el 4 here.
URL:https://www.georgiahumanities.org/event/revivallsvpanels-2/
LOCATION:Decatur Library\, 215 Sycamore Street\, Decatur\, GA\, 30030
CATEGORIES:Discussion,Festival,Lecture
END:VEVENT
END:VCALENDAR