BEGIN:VCALENDAR
VERSION:2.0
PRODID:-//Georgia Humanities - ECPv6.2.0.1//NONSGML v1.0//EN
CALSCALE:GREGORIAN
METHOD:PUBLISH
X-ORIGINAL-URL:https://www.georgiahumanities.org
X-WR-CALDESC:Events for Georgia Humanities
REFRESH-INTERVAL;VALUE=DURATION:PT1H
X-Robots-Tag:noindex
X-PUBLISHED-TTL:PT1H
BEGIN:VTIMEZONE
TZID:America/New_York
BEGIN:DAYLIGHT
TZOFFSETFROM:-0500
TZOFFSETTO:-0400
TZNAME:EDT
DTSTART:20210314T070000
END:DAYLIGHT
BEGIN:STANDARD
TZOFFSETFROM:-0400
TZOFFSETTO:-0500
TZNAME:EST
DTSTART:20211107T060000
END:STANDARD
END:VTIMEZONE
BEGIN:VEVENT
DTSTART;TZID=America/New_York:20210324T130000
DTEND;TZID=America/New_York:20210327T170000
DTSTAMP:20260424T221431
CREATED:20210323T195526Z
LAST-MODIFIED:20210323T195600Z
UID:8039-1616590800-1616864400@www.georgiahumanities.org
SUMMARY:Revival: Lost Southern Voices
DESCRIPTION:Revival: Lost Southern Voices is a celebration of lost or underappreciated southern writers’ work. During this free and virtual literary festival invited authors and scholars discuss writers whose literary voices no longer receive the attention and reading they deserve. \nOn March 24 former U.S. Poet Laureate Natasha Trethewey gives a keynote address\, followed by five additional sessions over several days. Register for the Trethewey event here: \nOn March 25th and 26th there will be presentations about William Gay\, Ella Gerturde Clanton Thomas\, Alice Walker\, Padgett Powell\, and many more. \nOn March 27\, there will be an entire session devoted to James Baldwin’s work. To register for any or all of these events\, go to the Revival: Lost Southern Voices Facebook page.
URL:https://www.georgiahumanities.org/event/revival-lost-southern-voices-6/
CATEGORIES:Conference,Discussion,Festival,Lecture
END:VEVENT
END:VCALENDAR