BEGIN:VCALENDAR
VERSION:2.0
PRODID:-//Georgia Humanities - ECPv6.2.0.1//NONSGML v1.0//EN
CALSCALE:GREGORIAN
METHOD:PUBLISH
X-WR-CALNAME:Georgia Humanities
X-ORIGINAL-URL:https://www.georgiahumanities.org
X-WR-CALDESC:Events for Georgia Humanities
REFRESH-INTERVAL;VALUE=DURATION:PT1H
X-Robots-Tag:noindex
X-PUBLISHED-TTL:PT1H
BEGIN:VTIMEZONE
TZID:America/New_York
BEGIN:DAYLIGHT
TZOFFSETFROM:-0500
TZOFFSETTO:-0400
TZNAME:EDT
DTSTART:20230312T070000
END:DAYLIGHT
BEGIN:STANDARD
TZOFFSETFROM:-0400
TZOFFSETTO:-0500
TZNAME:EST
DTSTART:20231105T060000
END:STANDARD
END:VTIMEZONE
BEGIN:VEVENT
DTSTART;TZID=America/New_York:20230824T180000
DTEND;TZID=America/New_York:20230824T200000
DTSTAMP:20260421T173752
CREATED:20230725T192123Z
LAST-MODIFIED:20230725T192140Z
UID:9774-1692900000-1692907200@www.georgiahumanities.org
SUMMARY:Bon Appetit Meets Athens Flavor: Rebecca Lang
DESCRIPTION:Join the Athens Regional Library System for a discussion with food writer\, cooking instructor\, television personality\, and Athens resident Rebecca Lang. Rebecca is the author of eight cookbooks and her work has been featured in publications including The Wall Street Journal\, Southern Living\, The Atlanta Journal-Constitution\, The Washington Post\, and more. She will share her tips for authentic Southern cooking. \nThis program is supported by a grant from Georgia Humanities.
URL:https://www.georgiahumanities.org/event/bon-appetit-meets-athens-flavor-4/
LOCATION:Athens-Clarke County Library\, 2025 Baxter Street\, Athens\, GA\, 30606\, United States
CATEGORIES:Discussion
END:VEVENT
END:VCALENDAR