BEGIN:VCALENDAR
VERSION:2.0
PRODID:-//Georgia Humanities - ECPv6.2.0.1//NONSGML v1.0//EN
CALSCALE:GREGORIAN
METHOD:PUBLISH
X-ORIGINAL-URL:https://www.georgiahumanities.org
X-WR-CALDESC:Events for Georgia Humanities
REFRESH-INTERVAL;VALUE=DURATION:PT1H
X-Robots-Tag:noindex
X-PUBLISHED-TTL:PT1H
BEGIN:VTIMEZONE
TZID:America/New_York
BEGIN:DAYLIGHT
TZOFFSETFROM:-0500
TZOFFSETTO:-0400
TZNAME:EDT
DTSTART:20230312T070000
END:DAYLIGHT
BEGIN:STANDARD
TZOFFSETFROM:-0400
TZOFFSETTO:-0500
TZNAME:EST
DTSTART:20231105T060000
END:STANDARD
END:VTIMEZONE
BEGIN:VEVENT
DTSTART;TZID=America/New_York:20230502T180000
DTEND;TZID=America/New_York:20230502T193000
DTSTAMP:20260421T202621
CREATED:20230406T015440Z
LAST-MODIFIED:20230406T015449Z
UID:9447-1683050400-1683055800@www.georgiahumanities.org
SUMMARY:Fox Center Georgia Seminar: Atlanta's New Deal Housing
DESCRIPTION:Presented by the Fox Center for Humanistic Inquiry at Emory University and moderated by Dr. Christina A. Crawford\, this seminar will drop into New Deal Atlanta to understand the economic\, political\, racial\, and spatial context that made the city the birthplace of American public housing. \nThe Georgia Seminars are sponsored by Georgia Humanities. 
URL:https://www.georgiahumanities.org/event/fox-center-georgia-seminar-atlantas-new-deal-housing-2-2-2/
LOCATION:Emory University Fox Center for Humanistic Inquiry\, 1635 North Decatur Road\, Atlanta\, GA\, 30322
CATEGORIES:Discussion,Lecture
END:VEVENT
BEGIN:VEVENT
DTSTART;TZID=America/New_York:20230507T160000
DTEND;TZID=America/New_York:20230507T170000
DTSTAMP:20260421T202621
CREATED:20230516T021223Z
LAST-MODIFIED:20230516T024651Z
UID:9552-1683475200-1683478800@www.georgiahumanities.org
SUMMARY:GCHE: Between the Spines – Remembering and Recreating Home: AANHPI Voices in Poetry
DESCRIPTION:May is Asian American Native Hawaiian Pacific Islander Heritage (AANHPI) month. In celebration\, Georgia Council for History Education’s monthly book discussion series will explore AANHPI poetry in a discussion led by Ruth Yuon\, writer and director of operations at Asian American Voices for Education. \nThis program is supported by a grant from Georgia Humanities.
URL:https://www.georgiahumanities.org/event/gche-between-the-spines-remembering-and-recreating-home/
LOCATION:Virtual Program
CATEGORIES:Discussion
END:VEVENT
BEGIN:VEVENT
DTSTART;TZID=America/New_York:20230525T190000
DTEND;TZID=America/New_York:20230525T210000
DTSTAMP:20260421T202621
CREATED:20230516T030223Z
LAST-MODIFIED:20230516T030223Z
UID:9569-1685041200-1685048400@www.georgiahumanities.org
SUMMARY:Beyond the Book: The Human Library Experience
DESCRIPTION:Do you have a story to share? Join the Arts Center of Moultrie for “Beyond the Book: The Human Library Experience.” Local community members will stand in as “open books” that readers can check out for conversation and connection. \nThis program is supported by a grant from Georgia Humanities
URL:https://www.georgiahumanities.org/event/beyond-the-book-the-human-library-experience/
LOCATION:The Arts Center of Moultrie\, 401 7th Avenue SW\, Moultrie\, GA\, 31768\, United States
CATEGORIES:Discussion
END:VEVENT
END:VCALENDAR