BEGIN:VCALENDAR
VERSION:2.0
PRODID:-//Georgia Humanities - ECPv6.2.0.1//NONSGML v1.0//EN
CALSCALE:GREGORIAN
METHOD:PUBLISH
X-WR-CALNAME:Georgia Humanities
X-ORIGINAL-URL:https://www.georgiahumanities.org
X-WR-CALDESC:Events for Georgia Humanities
REFRESH-INTERVAL;VALUE=DURATION:PT1H
X-Robots-Tag:noindex
X-PUBLISHED-TTL:PT1H
BEGIN:VTIMEZONE
TZID:America/New_York
BEGIN:DAYLIGHT
TZOFFSETFROM:-0500
TZOFFSETTO:-0400
TZNAME:EDT
DTSTART:20260308T070000
END:DAYLIGHT
BEGIN:STANDARD
TZOFFSETFROM:-0400
TZOFFSETTO:-0500
TZNAME:EST
DTSTART:20261101T060000
END:STANDARD
END:VTIMEZONE
BEGIN:VEVENT
DTSTART;TZID=America/New_York:20260303T090000
DTEND;TZID=America/New_York:20260802T170000
DTSTAMP:20260421T012652
CREATED:20260326T174844Z
LAST-MODIFIED:20260326T174923Z
UID:12443-1772528400-1785690000@www.georgiahumanities.org
SUMMARY:Georgia's Fall Line
DESCRIPTION:Columbus sits at the southeastern United States’ fall line\, a geological boundary marked by rapid changes in elevation. Near rivers\, this natural feature results in rapids that southern entrepreneurs have sought to harness for more than 200 years. \nGeorgia’s fall line cuts the state nearly in half\, running from Augusta south through Macon and Columbus. The effects of this feature generated economic and cultural similarities that continue to be seen today\, even as each city sought to forge its own path. \nGeorgia’s Fall Line spotlights Georgia’s Fall Line cities\, highlighting the key role that manufacturing\, textile mills\, and the U.S. military played in each community\, as well as the importance of trade and transportation networks in economic development. Once seen only as industrial cities\, the exhibition situates Georgia’s Fall Line communities and their contributions within the state’s broader history. In addition to spotlighting The Columbus Museum’s collection\, it features objects and images from institutions throughout the state such as the Augusta Museum of History\, the Morris Museum of Art\, and the Middle Georgia Archives. \nThis project is supported by Georgia Humanities\, in partnership with the Georgia Department of Economic Development\, through funding from the Georgia General Assembly.
URL:https://www.georgiahumanities.org/event/gafallline/
LOCATION:Columbus Museum\, 1251 Wynnton Road\, Columbus\, 31906\, United States
CATEGORIES:Exhibition
END:VEVENT
BEGIN:VEVENT
DTSTART;TZID=America/New_York:20260406T193000
DTEND;TZID=America/New_York:20260501T213000
DTSTAMP:20260421T012652
CREATED:20260325T133443Z
LAST-MODIFIED:20260325T134939Z
UID:12420-1775503800-1777671000@www.georgiahumanities.org
SUMMARY:Stars\, Stripes and Self-Expression Teen Art Contest Registration
DESCRIPTION:Contest Theme: The American Revolution: Then vs. Now. \nThis program is funded by an America 250 grant from Georgia Humanities.
URL:https://www.georgiahumanities.org/event/teenartcontest/
LOCATION:Clayton County Library Headquarters\, 865 Battle Creek Road\, Jonesboro\, GA\, 30236\, United States
CATEGORIES:Expo
END:VEVENT
BEGIN:VEVENT
DTSTART;TZID=America/New_York:20260421T090000
DTEND;TZID=America/New_York:20260421T150000
DTSTAMP:20260421T012652
CREATED:20260302T191950Z
LAST-MODIFIED:20260302T192505Z
UID:12209-1776762000-1776783600@www.georgiahumanities.org
SUMMARY:Educators Professional Development Workshop (1)
DESCRIPTION:Educators are invited to a workshop on how to integrate economics into lesson plans (grades 3-12) for America 250 and Voices and Votes. Hosted by the Georgia Council for Economic Development. \nThis program is part of Voices & Votes: Democracy in America\, presented by Georgia Humanities through the Museum on Main Street program\, a partnership with the Smithsonian Institution.
URL:https://www.georgiahumanities.org/event/educatorprofdevt1/
LOCATION:Putnam County Annex Building – County Commission Room\, 117 Putnam Dr. (main entrance facing HWY 441)\, Eatonton\, 31024\, United States
CATEGORIES:Museum on Main Street,Workshop
END:VEVENT
BEGIN:VEVENT
DTSTART;TZID=America/New_York:20260421T193000
DTEND;TZID=America/New_York:20260421T213000
DTSTAMP:20260421T012652
CREATED:20260325T133104Z
LAST-MODIFIED:20260325T134749Z
UID:12413-1776799800-1776807000@www.georgiahumanities.org
SUMMARY:Voice n' Verse - The Revolution Edition
DESCRIPTION:Join us for a night of poetry\, music\, laughter and creativity! Create your own Hamilton-inspired piece to celebrate America 250 in your own special way. \nThis program is funded by an America 250 grant from Georgia Humanities.
URL:https://www.georgiahumanities.org/event/voicenverse/
LOCATION:Clayton County Library Headquarters\, 865 Battle Creek Road\, Jonesboro\, GA\, 30236\, United States
CATEGORIES:Reading/Performance/Showing
END:VEVENT
END:VCALENDAR