BEGIN:VCALENDAR
VERSION:2.0
PRODID:-//Georgia Humanities - ECPv6.2.0.1//NONSGML v1.0//EN
CALSCALE:GREGORIAN
METHOD:PUBLISH
X-WR-CALNAME:Georgia Humanities
X-ORIGINAL-URL:https://www.georgiahumanities.org
X-WR-CALDESC:Events for Georgia Humanities
REFRESH-INTERVAL;VALUE=DURATION:PT1H
X-Robots-Tag:noindex
X-PUBLISHED-TTL:PT1H
BEGIN:VTIMEZONE
TZID:America/New_York
BEGIN:DAYLIGHT
TZOFFSETFROM:-0500
TZOFFSETTO:-0400
TZNAME:EDT
DTSTART:20240310T070000
END:DAYLIGHT
BEGIN:STANDARD
TZOFFSETFROM:-0400
TZOFFSETTO:-0500
TZNAME:EST
DTSTART:20241103T060000
END:STANDARD
END:VTIMEZONE
BEGIN:VEVENT
DTSTART;TZID=America/New_York:20240927T150000
DTEND;TZID=America/New_York:20240927T163000
DTSTAMP:20260421T053502
CREATED:20240904T151043Z
LAST-MODIFIED:20240904T151043Z
UID:10538-1727449200-1727454600@www.georgiahumanities.org
SUMMARY:Local History Spotlight: Primus King Changes the Georgia Vote
DESCRIPTION:Primus E. King helped African-Americans gain the right to vote in Georgia by challenging the constitutionality of the State Democratic Party’s refusal to allow him to vote in 1940. As part of their “Constitution and Me” program series\, join the Chattahoochee Valley Libraries for a lecture exploring important details of the King decision using primary sources and other materials in the Library’s collection. \nThis program is supported by a grant from Georgia Humanities. 
URL:https://www.georgiahumanities.org/event/local-history-spotlight-primus-king-changes-the-georgia-vote/
LOCATION:Columbus Public Library\, 3000 Macon Road\, Columbus\, Georgia\, 31906
CATEGORIES:Lecture
END:VEVENT
END:VCALENDAR