BEGIN:VCALENDAR
VERSION:2.0
PRODID:-//Georgia Humanities - ECPv6.2.0.1//NONSGML v1.0//EN
CALSCALE:GREGORIAN
METHOD:PUBLISH
X-ORIGINAL-URL:https://www.georgiahumanities.org
X-WR-CALDESC:Events for Georgia Humanities
REFRESH-INTERVAL;VALUE=DURATION:PT1H
X-Robots-Tag:noindex
X-PUBLISHED-TTL:PT1H
BEGIN:VTIMEZONE
TZID:America/New_York
BEGIN:DAYLIGHT
TZOFFSETFROM:-0500
TZOFFSETTO:-0400
TZNAME:EDT
DTSTART:20240310T070000
END:DAYLIGHT
BEGIN:STANDARD
TZOFFSETFROM:-0400
TZOFFSETTO:-0500
TZNAME:EST
DTSTART:20241103T060000
END:STANDARD
END:VTIMEZONE
BEGIN:VEVENT
DTSTART;TZID=America/New_York:20240911T160000
DTEND;TZID=America/New_York:20240911T170000
DTSTAMP:20260421T040824
CREATED:20240904T143530Z
LAST-MODIFIED:20240904T145927Z
UID:10525-1726070400-1726074000@www.georgiahumanities.org
SUMMARY:Constitution Week: Do I Have the Right?
DESCRIPTION:As part of their “Constitution and Me” program series\, join the Chattahoochee Valley Libraries to test your knowledge of constitutional rights with fun trivia provided by iCivics. \nThis program is supported by a grant from Georgia Humanities. 
URL:https://www.georgiahumanities.org/event/constitution-week-do-i-have-the-right/
LOCATION:South Columbus Public Library\, 1973 Torch Hill Road\, Columbus\, Georgia\, 31903
CATEGORIES:Workshop
END:VEVENT
END:VCALENDAR