BEGIN:VCALENDAR
VERSION:2.0
PRODID:-//Georgia Humanities - ECPv6.2.0.1//NONSGML v1.0//EN
CALSCALE:GREGORIAN
METHOD:PUBLISH
X-WR-CALNAME:Georgia Humanities
X-ORIGINAL-URL:https://www.georgiahumanities.org
X-WR-CALDESC:Events for Georgia Humanities
REFRESH-INTERVAL;VALUE=DURATION:PT1H
X-Robots-Tag:noindex
X-PUBLISHED-TTL:PT1H
BEGIN:VTIMEZONE
TZID:America/New_York
BEGIN:DAYLIGHT
TZOFFSETFROM:-0500
TZOFFSETTO:-0400
TZNAME:EDT
DTSTART:20240310T070000
END:DAYLIGHT
BEGIN:STANDARD
TZOFFSETFROM:-0400
TZOFFSETTO:-0500
TZNAME:EST
DTSTART:20241103T060000
END:STANDARD
END:VTIMEZONE
BEGIN:VEVENT
DTSTART;TZID=America/New_York:20240422T190000
DTEND;TZID=America/New_York:20240422T230000
DTSTAMP:20260422T160708
CREATED:20240404T214148Z
LAST-MODIFIED:20240404T214148Z
UID:10180-1713812400-1713826800@www.georgiahumanities.org
SUMMARY:Screening of "Saving the Chattahoochee"
DESCRIPTION:During the 1990s\, the Chattahoochee River was named the most endangered urban river in North America by American Rivers\, a key conservation group. “Saving the Chattahoochee\,” a new documentary by filmmaker Hal Jacobs\, tells the story of the dedicated Atlanta women who fought to revive and protect the Chattahoochee River and its watershed. \nTune in on GPB-TV at 7:00 pm and 11:00 pm to celebrate the achievements and legacy of several Atlanta women who have defended the river over the last 50 years. \n“Saving the Chattahoochee” is sponsored by Georgia Humanities. 
URL:https://www.georgiahumanities.org/event/screening-of-saving-the-chattahoochee-4-2/
LOCATION:Georgia Public Broadcasting\, GA\, United States
CATEGORIES:Broadcast
END:VEVENT
END:VCALENDAR