BEGIN:VCALENDAR
VERSION:2.0
PRODID:-//Georgia Humanities - ECPv6.2.0.1//NONSGML v1.0//EN
CALSCALE:GREGORIAN
METHOD:PUBLISH
X-WR-CALNAME:Georgia Humanities
X-ORIGINAL-URL:https://www.georgiahumanities.org
X-WR-CALDESC:Events for Georgia Humanities
REFRESH-INTERVAL;VALUE=DURATION:PT1H
X-Robots-Tag:noindex
X-PUBLISHED-TTL:PT1H
BEGIN:VTIMEZONE
TZID:America/New_York
BEGIN:DAYLIGHT
TZOFFSETFROM:-0500
TZOFFSETTO:-0400
TZNAME:EDT
DTSTART:20240310T070000
END:DAYLIGHT
BEGIN:STANDARD
TZOFFSETFROM:-0400
TZOFFSETTO:-0500
TZNAME:EST
DTSTART:20241103T060000
END:STANDARD
END:VTIMEZONE
BEGIN:VEVENT
DTSTART;VALUE=DATE:20240102
DTEND;VALUE=DATE:20240324
DTSTAMP:20260422T172952
CREATED:20240117T201027Z
LAST-MODIFIED:20240117T201027Z
UID:10049-1704153600-1711238399@www.georgiahumanities.org
SUMMARY:"Sacred Threads" Exhibit
DESCRIPTION:The Southeastern Quilt and Textile Museum invites you to experience the “Sacred Threads” exhibit\, on display from January 2 to March 23\, 2024.  \n“Sacred Threads” features 38 quilts\, all centered around themes of brotherhood\, grief\, healing\, joy\, peace\, and spirituality. Each quilt also features an audio story that explains the quilt’s inspiration to the viewer. \nThis program is supported by a grant from Georgia Humanities.
URL:https://www.georgiahumanities.org/event/sacred-threads-exhibit/
LOCATION:Southeastern Quilt and Textile Museum\, 306 Bradley St\, STE C\, Carrollton\, GA\, 30117
CATEGORIES:Exhibition
END:VEVENT
BEGIN:VEVENT
DTSTART;TZID=America/New_York:20240321T090000
DTEND;TZID=America/New_York:20240323T170000
DTSTAMP:20260422T172952
CREATED:20240229T160739Z
LAST-MODIFIED:20240229T160939Z
UID:10120-1711011600-1711213200@www.georgiahumanities.org
SUMMARY:Revival: Lost Southern Voices
DESCRIPTION:Revival: Lost South­ern Voic­es is a fes­ti­val for read­ers that cel­e­brates his­tor­i­cal­ly exclud­ed\, erased\, or mar­gin­al­ized South­ern voic­es. Dur­ing this three-day annu­al con­fer­ence\, pre­sen­ters dis­cuss South­ern authors or artists whose works are out-of-print or oth­er­wise do not receive the atten­tion they deserve. \nThis program is supported by a grant from Georgia Humanities. 
URL:https://www.georgiahumanities.org/event/revival-lost-southern-voices-8/
LOCATION:Georgia Center for the Book\, 215 Sycamore Street\, Decatur\, GA\, 30030\, United States
CATEGORIES:Conference,Festival
END:VEVENT
END:VCALENDAR