BEGIN:VCALENDAR
VERSION:2.0
PRODID:-//Georgia Humanities - ECPv6.2.0.1//NONSGML v1.0//EN
CALSCALE:GREGORIAN
METHOD:PUBLISH
X-WR-CALNAME:Georgia Humanities
X-ORIGINAL-URL:https://www.georgiahumanities.org
X-WR-CALDESC:Events for Georgia Humanities
REFRESH-INTERVAL;VALUE=DURATION:PT1H
X-Robots-Tag:noindex
X-PUBLISHED-TTL:PT1H
BEGIN:VTIMEZONE
TZID:America/New_York
BEGIN:DAYLIGHT
TZOFFSETFROM:-0500
TZOFFSETTO:-0400
TZNAME:EDT
DTSTART:20210314T070000
END:DAYLIGHT
BEGIN:STANDARD
TZOFFSETFROM:-0400
TZOFFSETTO:-0500
TZNAME:EST
DTSTART:20211107T060000
END:STANDARD
END:VTIMEZONE
BEGIN:VEVENT
DTSTART;TZID=America/New_York:20210401T193000
DTEND;TZID=America/New_York:20210401T203000
DTSTAMP:20260424T165005
CREATED:20210323T025510Z
LAST-MODIFIED:20210323T025510Z
UID:8009-1617305400-1617309000@www.georgiahumanities.org
SUMMARY:VIRTUAL EVENT—Wondrous Worlds Lecture Series: "Reflections of the Past in Modern Islamic Gardens"
DESCRIPTION:“Reflections of the Past in Modern Islamic Gardens” \nD. Fairchild Ruggles\, of the University of Illinois at Urbana-Champaign will give a lecture on Islamic gardens from Spain to India\, which were historically shaped by geometry\, water\, abstract ornament\, color\, and viewsheds\, and how modern gardeners both reflect the past and offer reinterpretations of historic elements. \nThis event is held in conjunction with the Wondrous Worlds: Art and Islam Through Time and Place exhibition at the Michael C. Carlos Museum at Emory University. \nThe event is free but you must register on Zoom to attend. Click HERE to register. \nThis program is made possible in part by Georgia Humanities.
URL:https://www.georgiahumanities.org/event/virtual-event-wondrous-worlds-lecture-series-reflections-of-the-past-in-modern-islamic-gardens/
CATEGORIES:Lecture,Online
END:VEVENT
END:VCALENDAR